BEGIN:VCALENDAR
PRODID:-//spiritec//spiritec media library//EN
VERSION:2.0
METHOD:PUBLISH
BEGIN:VEVENT
UID:ical-2026-06-06-3405
DTSTART:20260606T170000Z
DTSTAMP:20260424T233435Z
LOCATION:Living room in Düsseldorf Bilk (2)
SUMMARY:Everything we could be
DESCRIPTION:
CREATED:20260424T233435Z
DTEND:20260606T183000Z
END:VEVENT
END:VCALENDAR
