BEGIN:VCALENDAR
PRODID:-//spiritec//spiritec media library//EN
VERSION:2.0
METHOD:PUBLISH
BEGIN:VEVENT
UID:ical-2026-06-12-3406
DTSTART:20260612T160000Z
DTSTAMP:20260424T233620Z
LOCATION:Living room in Düsseldorf Bilk (1)
SUMMARY:Everything we could be
DESCRIPTION:
CREATED:20260424T233620Z
DTEND:20260612T173000Z
END:VEVENT
END:VCALENDAR
