BEGIN:VCALENDAR
PRODID:-//spiritec//spiritec media library//EN
VERSION:2.0
METHOD:PUBLISH
BEGIN:VEVENT
UID:ical-2026-06-13-3408
DTSTART:20260613T170000Z
DTSTAMP:20260424T233527Z
LOCATION:Living room in Duisburg Alt-Homberg
SUMMARY:Everything we could be
DESCRIPTION:
CREATED:20260424T233527Z
DTEND:20260613T183000Z
END:VEVENT
END:VCALENDAR
