BEGIN:VCALENDAR
PRODID:-//spiritec//spiritec media library//EN
VERSION:2.0
METHOD:PUBLISH
BEGIN:VEVENT
UID:ical-2026-06-19-3409
DTSTART:20260619T160000Z
DTSTAMP:20260424T233527Z
LOCATION:Living room in Düsseldorf Bilk (3)
SUMMARY:Everything we could be
DESCRIPTION:
CREATED:20260424T233527Z
DTEND:20260619T173000Z
END:VEVENT
END:VCALENDAR
