BEGIN:VCALENDAR
PRODID:-//spiritec//spiritec media library//EN
VERSION:2.0
METHOD:PUBLISH
BEGIN:VEVENT
UID:ical-2026-05-30-3217
DTSTART:20260530T170000Z
DTSTAMP:20260423T153144Z
LOCATION:Wohnzimmer in Düsseldorf Bilk (1)
SUMMARY:Alles, was wir sein könnten
DESCRIPTION:
CREATED:20260423T153144Z
DTEND:20260530T183000Z
END:VEVENT
END:VCALENDAR
