BEGIN:VCALENDAR
PRODID:-//spiritec//spiritec media library//EN
VERSION:2.0
METHOD:PUBLISH
BEGIN:VEVENT
UID:ical-2026-06-03-3393
DTSTART:20260603T160000Z
DTSTAMP:20260424T200513Z
LOCATION:UFO am Rather Carré (Quartiersplatz), Düsseldorf Rath
SUMMARY:Alles, was wir sein könnten
DESCRIPTION:
CREATED:20260424T200513Z
DTEND:20260603T173000Z
END:VEVENT
END:VCALENDAR
