BEGIN:VCALENDAR
PRODID:-//spiritec//spiritec media library//EN
VERSION:2.0
METHOD:PUBLISH
BEGIN:VEVENT
UID:ical-2026-06-27-3404
DTSTART:20260627T170000Z
DTSTAMP:20260424T200341Z
LOCATION:Wohnzimmer in Duisburg Alt-Homberg
SUMMARY:Alles, was wir sein könnten
DESCRIPTION:
CREATED:20260424T200341Z
DTEND:20260627T183000Z
END:VEVENT
END:VCALENDAR
