BEGIN:VCALENDAR
PRODID:-//spiritec//spiritec media library//EN
VERSION:2.0
METHOD:PUBLISH
BEGIN:VEVENT
UID:ical-2026-06-06-3405
DTSTART:20260606T170000Z
DTSTAMP:20260424T200554Z
LOCATION:Wohnzimmer in Düsseldorf Bilk (2)
SUMMARY:Alles, was wir sein könnten
DESCRIPTION:
CREATED:20260424T200554Z
DTEND:20260606T183000Z
END:VEVENT
END:VCALENDAR
