BEGIN:VCALENDAR
PRODID:-//spiritec//spiritec media library//EN
VERSION:2.0
METHOD:PUBLISH
BEGIN:VEVENT
UID:ical-2026-06-12-3406
DTSTART:20260612T160000Z
DTSTAMP:20260424T200727Z
LOCATION:Wohnzimmer in Düsseldorf Bilk (1)
SUMMARY:Alles, was wir sein könnten
DESCRIPTION:
CREATED:20260424T200727Z
DTEND:20260612T173000Z
END:VEVENT
END:VCALENDAR
