BEGIN:VCALENDAR
PRODID:-//spiritec//spiritec media library//EN
VERSION:2.0
METHOD:PUBLISH
BEGIN:VEVENT
UID:ical-2026-06-13-3407
DTSTART:20260613T090000Z
DTSTAMP:20260424T200417Z
LOCATION:Wohnzimmer in Düsseldorf Bilk (3)
SUMMARY:Alles, was wir sein könnten
DESCRIPTION:
CREATED:20260424T200417Z
DTEND:20260613T103000Z
END:VEVENT
END:VCALENDAR
