BEGIN:VCALENDAR
PRODID:-//spiritec//spiritec media library//EN
VERSION:2.0
METHOD:PUBLISH
BEGIN:VEVENT
UID:ical-2026-06-13-3408
DTSTART:20260613T170000Z
DTSTAMP:20260424T200601Z
LOCATION:Wohnzimmer in Duisburg Alt-Homberg
SUMMARY:Alles, was wir sein könnten
DESCRIPTION:
CREATED:20260424T200601Z
DTEND:20260613T183000Z
END:VEVENT
END:VCALENDAR
