BEGIN:VCALENDAR
PRODID:-//spiritec//spiritec media library//EN
VERSION:2.0
METHOD:PUBLISH
BEGIN:VEVENT
UID:ical-2026-06-19-3409
DTSTART:20260619T160000Z
DTSTAMP:20260424T200652Z
LOCATION:Wohnzimmer in Düsseldorf Bilk (3)
SUMMARY:Alles, was wir sein könnten
DESCRIPTION:
CREATED:20260424T200652Z
DTEND:20260619T173000Z
END:VEVENT
END:VCALENDAR
