BEGIN:VCALENDAR
PRODID:-//spiritec//spiritec media library//EN
VERSION:2.0
METHOD:PUBLISH
BEGIN:VEVENT
UID:ical-2026-06-26-3410
DTSTART:20260626T170000Z
DTSTAMP:20260424T200738Z
LOCATION:Wohnzimmer in Duisburg Meiderich
SUMMARY:Alles, was wir sein könnten
DESCRIPTION:
CREATED:20260424T200738Z
DTEND:20260626T183000Z
END:VEVENT
END:VCALENDAR
