BEGIN:VCALENDAR
PRODID:-//spiritec//spiritec media library//EN
VERSION:2.0
METHOD:PUBLISH
BEGIN:VEVENT
UID:ical-2026-10-07-3502
DTSTART:20261007T173000Z
DTSTAMP:20260423T110426Z
LOCATION:Theater Duisburg
SUMMARY:On the Town
DESCRIPTION:
CREATED:20260423T110426Z
DTEND:20261007T201500Z
END:VEVENT
END:VCALENDAR
