BEGIN:VCALENDAR
PRODID:-//spiritec//spiritec media library//EN
VERSION:2.0
METHOD:PUBLISH
BEGIN:VEVENT
UID:ical-2026-10-16-3503
DTSTART:20261016T173000Z
DTSTAMP:20260423T110426Z
LOCATION:Theater Duisburg
SUMMARY:On the Town
DESCRIPTION:
CREATED:20260423T110426Z
DTEND:20261016T201500Z
END:VEVENT
END:VCALENDAR
