BEGIN:VCALENDAR
PRODID:-//spiritec//spiritec media library//EN
VERSION:2.0
METHOD:PUBLISH
BEGIN:VEVENT
UID:ical-2026-11-08-3506
DTSTART:20261108T173000Z
DTSTAMP:20260423T110435Z
LOCATION:Theater Duisburg
SUMMARY:On the Town
DESCRIPTION:
CREATED:20260423T110435Z
DTEND:20261108T201500Z
END:VEVENT
END:VCALENDAR
