BEGIN:VCALENDAR
PRODID:-//spiritec//spiritec media library//EN
VERSION:2.0
METHOD:PUBLISH
BEGIN:VEVENT
UID:ical-2026-11-14-3507
DTSTART:20261114T183000Z
DTSTAMP:20260423T110443Z
LOCATION:Theater Duisburg
SUMMARY:On the Town
DESCRIPTION:
CREATED:20260423T110443Z
DTEND:20261114T211500Z
END:VEVENT
END:VCALENDAR
