BEGIN:VCALENDAR
PRODID:-//spiritec//spiritec media library//EN
VERSION:2.0
METHOD:PUBLISH
BEGIN:VEVENT
UID:ical-2026-09-11-3633
DTSTART:20260911T173000Z
DTSTAMP:20260421T101539Z
LOCATION:Theater Duisburg
SUMMARY:Haniel Klassik Open Air
DESCRIPTION:
CREATED:20260421T101539Z
DTEND:20260911T215900Z
END:VEVENT
END:VCALENDAR
