BEGIN:VCALENDAR
PRODID:-//spiritec//spiritec media library//EN
VERSION:2.0
METHOD:PUBLISH
BEGIN:VEVENT
UID:ical-2026-06-21-3883
DTSTART:20260621T090000Z
DTSTAMP:20260423T222204Z
LOCATION:Opernhaus Düsseldorf – Foyer
SUMMARY:Liedmatinee
DESCRIPTION:
CREATED:20260423T222204Z
DTEND:20260621T215900Z
END:VEVENT
END:VCALENDAR
